Package: seqPattern Version: 1.24.0 Command: rm -rf seqPattern.buildbin-libdir && mkdir seqPattern.buildbin-libdir && /Users/biocbuild/BBS/utils/build-universal.sh seqPattern_1.24.0.tar.gz /Library/Frameworks/R.framework/Versions/Current/Resources/bin/R seqPattern.buildbin-libdir StartedAt: 2021-10-15 03:58:11 -0400 (Fri, 15 Oct 2021) EndedAt: 2021-10-15 03:59:20 -0400 (Fri, 15 Oct 2021) EllapsedTime: 69.4 seconds RetCode: 0 Status: OK PackageFile: seqPattern_1.24.0.tgz PackageFileSize: 3.511 MiB