Package: seqPattern Version: 1.24.0 Command: /home/biocbuild/bbs-3.13-bioc/R/bin/R CMD INSTALL seqPattern StartedAt: 2021-10-14 06:10:03 -0400 (Thu, 14 Oct 2021) EndedAt: 2021-10-14 06:10:13 -0400 (Thu, 14 Oct 2021) EllapsedTime: 10.2 seconds RetCode: 0 Status: OK