Package: sigFeature Version: 1.10.0 Command: /home/biocbuild/bbs-3.13-bioc/R/bin/R CMD build --keep-empty-dirs --no-resave-data sigFeature StartedAt: 2021-10-14 08:25:31 -0400 (Thu, 14 Oct 2021) EndedAt: 2021-10-14 08:26:10 -0400 (Thu, 14 Oct 2021) EllapsedTime: 38.8 seconds RetCode: 0 Status: OK PackageFile: sigFeature_1.10.0.tar.gz PackageFileSize: 494.6 KiB