Package: sigFeature Version: 1.10.0 Command: /home/biocbuild/bbs-3.13-bioc/R/bin/R CMD INSTALL sigFeature StartedAt: 2021-10-14 06:12:49 -0400 (Thu, 14 Oct 2021) EndedAt: 2021-10-14 06:13:13 -0400 (Thu, 14 Oct 2021) EllapsedTime: 24.2 seconds RetCode: 0 Status: OK