Package: sigFeature Version: 1.10.0 Command: chmod a+r sigFeature -R && C:\Users\biocbuild\bbs-3.13-bioc\R\bin\R.exe CMD build --keep-empty-dirs --no-resave-data sigFeature StartedAt: 2021-10-14 18:17:43 -0400 (Thu, 14 Oct 2021) EndedAt: 2021-10-14 18:19:09 -0400 (Thu, 14 Oct 2021) EllapsedTime: 86.1 seconds RetCode: 0 Status: OK PackageFile: sigFeature_1.10.0.tar.gz PackageFileSize: 495.5 KiB