Package: signeR Version: 1.18.1 Command: rm -rf signeR.buildbin-libdir && mkdir signeR.buildbin-libdir && /Users/biocbuild/BBS/utils/build-universal.sh signeR_1.18.1.tar.gz /Library/Frameworks/R.framework/Versions/Current/Resources/bin/R signeR.buildbin-libdir StartedAt: 2021-10-15 04:00:15 -0400 (Fri, 15 Oct 2021) EndedAt: 2021-10-15 04:02:31 -0400 (Fri, 15 Oct 2021) EllapsedTime: 136.1 seconds RetCode: 0 Status: OK PackageFile: signeR_1.18.1.tgz PackageFileSize: 2.025 MiB