Package: signeR Version: 1.18.1 Command: C:\Users\biocbuild\bbs-3.13-bioc\R\bin\R.exe CMD check --force-multiarch --install=check:signeR.install-out.txt --library=C:\Users\biocbuild\bbs-3.13-bioc\R\library --no-vignettes --timings signeR_1.18.1.tar.gz StartedAt: 2021-10-15 05:42:45 -0400 (Fri, 15 Oct 2021) EndedAt: 2021-10-15 05:49:39 -0400 (Fri, 15 Oct 2021) EllapsedTime: 414.0 seconds RetCode: 0 Status: OK CheckDir: signeR.Rcheck Warnings: 0