Package: sigsquared Version: 1.24.0 Command: /Library/Frameworks/R.framework/Versions/Current/Resources/bin/R CMD INSTALL sigsquared StartedAt: 2021-10-14 08:28:42 -0400 (Thu, 14 Oct 2021) EndedAt: 2021-10-14 08:29:30 -0400 (Thu, 14 Oct 2021) EllapsedTime: 47.5 seconds RetCode: 0 Status: OK