git_url: https://git.bioconductor.org/packages/sincell git_branch: RELEASE_3_13 git_last_commit: 726ccb9 git_last_commit_date: 2021-05-19 12:11:02 -0400 (Wed, 19 May 2021) Package: sincell Version: 1.24.0 Maintainer: Miguel Julia , Antonio Rausell MaintainerEmail: antonio.rausell at isb-sib.ch