Package: sincell Version: 1.24.0 Command: /Library/Frameworks/R.framework/Versions/Current/Resources/bin/R CMD build --keep-empty-dirs --no-resave-data sincell StartedAt: 2021-10-14 14:59:19 -0400 (Thu, 14 Oct 2021) EndedAt: 2021-10-14 15:03:25 -0400 (Thu, 14 Oct 2021) EllapsedTime: 245.9 seconds RetCode: 0 Status: OK PackageFile: sincell_1.24.0.tar.gz PackageFileSize: 1.125 MiB