Package: sincell Version: 1.24.0 Command: chmod a+r sincell -R && C:\Users\biocbuild\bbs-3.13-bioc\R\bin\R.exe CMD build --keep-empty-dirs --no-resave-data sincell StartedAt: 2021-10-14 18:20:39 -0400 (Thu, 14 Oct 2021) EndedAt: 2021-10-14 18:28:00 -0400 (Thu, 14 Oct 2021) EllapsedTime: 440.7 seconds RetCode: 0 Status: OK PackageFile: sincell_1.24.0.tar.gz PackageFileSize: 940.2 KiB