Package: sizepower Version: 1.62.0 Command: /Library/Frameworks/R.framework/Versions/Current/Resources/bin/R CMD check --install=check:sizepower.install-out.txt --library=/Library/Frameworks/R.framework/Versions/Current/Resources/library --no-vignettes --timings sizepower_1.62.0.tar.gz StartedAt: 2021-10-15 00:07:45 -0400 (Fri, 15 Oct 2021) EndedAt: 2021-10-15 00:08:10 -0400 (Fri, 15 Oct 2021) EllapsedTime: 25.0 seconds RetCode: 0 Status: OK CheckDir: sizepower.Rcheck Warnings: 0