Package: sizepower Version: 1.62.0 Command: /Library/Frameworks/R.framework/Versions/Current/Resources/bin/R CMD INSTALL sizepower StartedAt: 2021-10-14 08:11:47 -0400 (Thu, 14 Oct 2021) EndedAt: 2021-10-14 08:12:32 -0400 (Thu, 14 Oct 2021) EllapsedTime: 44.9 seconds RetCode: 0 Status: OK