Package: sizepower Version: 1.62.0 Command: /home/biocbuild/bbs-3.13-bioc/R/bin/R CMD INSTALL sizepower StartedAt: 2021-10-14 06:02:38 -0400 (Thu, 14 Oct 2021) EndedAt: 2021-10-14 06:02:46 -0400 (Thu, 14 Oct 2021) EllapsedTime: 7.9 seconds RetCode: 0 Status: OK