Package: sizepower Version: 1.62.0 Command: rm -rf sizepower.buildbin-libdir && mkdir sizepower.buildbin-libdir && C:\Users\biocbuild\bbs-3.13-bioc\R\bin\R.exe CMD INSTALL --merge-multiarch --build --library=sizepower.buildbin-libdir sizepower_1.62.0.tar.gz StartedAt: 2021-10-15 11:52:00 -0400 (Fri, 15 Oct 2021) EndedAt: 2021-10-15 11:53:32 -0400 (Fri, 15 Oct 2021) EllapsedTime: 91.8 seconds RetCode: 0 Status: OK PackageFile: sizepower_1.62.0.zip PackageFileSize: 216.7 KiB