Package: sizepower Version: 1.62.0 Command: chmod a+r sizepower -R && C:\Users\biocbuild\bbs-3.13-bioc\R\bin\R.exe CMD build --keep-empty-dirs --no-resave-data sizepower StartedAt: 2021-10-14 18:22:57 -0400 (Thu, 14 Oct 2021) EndedAt: 2021-10-14 18:24:00 -0400 (Thu, 14 Oct 2021) EllapsedTime: 63.3 seconds RetCode: 0 Status: OK PackageFile: sizepower_1.62.0.tar.gz PackageFileSize: 184 KiB