Package: sizepower Version: 1.62.0 Command: C:\cygwin\bin\curl.exe -O http://155.52.207.165/BBS/3.13/bioc/src/contrib/sizepower_1.62.0.tar.gz && rm -rf sizepower.buildbin-libdir && mkdir sizepower.buildbin-libdir && C:\Users\biocbuild\bbs-3.13-bioc\R\bin\R.exe CMD INSTALL --merge-multiarch --build --library=sizepower.buildbin-libdir sizepower_1.62.0.tar.gz && C:\Users\biocbuild\bbs-3.13-bioc\R\bin\R.exe CMD INSTALL sizepower_1.62.0.zip && rm sizepower_1.62.0.tar.gz sizepower_1.62.0.zip StartedAt: 2021-10-14 07:00:06 -0400 (Thu, 14 Oct 2021) EndedAt: 2021-10-14 07:01:08 -0400 (Thu, 14 Oct 2021) EllapsedTime: 62.1 seconds RetCode: 0 Status: OK