Package: slalom Version: 1.14.0 Command: C:\Users\biocbuild\bbs-3.13-bioc\R\bin\R.exe CMD check --force-multiarch --install=check:slalom.install-out.txt --library=C:\Users\biocbuild\bbs-3.13-bioc\R\library --no-vignettes --timings slalom_1.14.0.tar.gz StartedAt: 2021-10-15 05:51:09 -0400 (Fri, 15 Oct 2021) EndedAt: 2021-10-15 05:58:47 -0400 (Fri, 15 Oct 2021) EllapsedTime: 458.4 seconds RetCode: 0 Status: OK CheckDir: slalom.Rcheck Warnings: 0