Package: slalom Version: 1.14.0 Command: C:\cygwin\bin\curl.exe -O http://155.52.207.165/BBS/3.13/bioc/src/contrib/slalom_1.14.0.tar.gz && rm -rf slalom.buildbin-libdir && mkdir slalom.buildbin-libdir && C:\Users\biocbuild\bbs-3.13-bioc\R\bin\R.exe CMD INSTALL --merge-multiarch --build --library=slalom.buildbin-libdir slalom_1.14.0.tar.gz && C:\Users\biocbuild\bbs-3.13-bioc\R\bin\R.exe CMD INSTALL slalom_1.14.0.zip && rm slalom_1.14.0.tar.gz slalom_1.14.0.zip StartedAt: 2021-10-14 09:20:14 -0400 (Thu, 14 Oct 2021) EndedAt: 2021-10-14 09:22:17 -0400 (Thu, 14 Oct 2021) EllapsedTime: 122.3 seconds RetCode: 0 Status: OK