Package: slinky Version: 1.10.2 Command: /home/biocbuild/bbs-3.13-bioc/R/bin/R CMD build --keep-empty-dirs --no-resave-data slinky StartedAt: 2021-10-14 08:27:33 -0400 (Thu, 14 Oct 2021) EndedAt: 2021-10-14 08:28:46 -0400 (Thu, 14 Oct 2021) EllapsedTime: 72.7 seconds RetCode: 0 Status: OK PackageFile: slinky_1.10.2.tar.gz PackageFileSize: 1.223 MiB