Package: slinky Version: 1.10.2 Command: C:\Users\biocbuild\bbs-3.13-bioc\R\bin\R.exe CMD check --force-multiarch --install=check:slinky.install-out.txt --library=C:\Users\biocbuild\bbs-3.13-bioc\R\library --no-vignettes --timings slinky_1.10.2.tar.gz StartedAt: 2021-10-15 05:51:53 -0400 (Fri, 15 Oct 2021) EndedAt: 2021-10-15 05:58:20 -0400 (Fri, 15 Oct 2021) EllapsedTime: 386.8 seconds RetCode: 1 Status: ERROR CheckDir: slinky.Rcheck Warnings: NA