Package: slinky Version: 1.10.2 Command: C:\cygwin\bin\curl.exe -O http://155.52.207.165/BBS/3.13/bioc/src/contrib/slinky_1.10.2.tar.gz && rm -rf slinky.buildbin-libdir && mkdir slinky.buildbin-libdir && C:\Users\biocbuild\bbs-3.13-bioc\R\bin\R.exe CMD INSTALL --merge-multiarch --build --library=slinky.buildbin-libdir slinky_1.10.2.tar.gz && C:\Users\biocbuild\bbs-3.13-bioc\R\bin\R.exe CMD INSTALL slinky_1.10.2.zip && rm slinky_1.10.2.tar.gz slinky_1.10.2.zip StartedAt: 2021-10-14 10:49:57 -0400 (Thu, 14 Oct 2021) EndedAt: 2021-10-14 10:50:49 -0400 (Thu, 14 Oct 2021) EllapsedTime: 51.3 seconds RetCode: 0 Status: OK