git_url: https://git.bioconductor.org/packages/snapcount git_branch: RELEASE_3_13 git_last_commit: 148c7b4 git_last_commit_date: 2021-05-19 12:52:31 -0400 (Wed, 19 May 2021) Package: snapcount Version: 1.4.0 Maintainer: Rone Charles MaintainerEmail: rcharle8 at jh.edu