Package: soGGi Version: 1.24.1 Command: /home/biocbuild/bbs-3.13-bioc/R/bin/R CMD check --install=check:soGGi.install-out.txt --library=/home/biocbuild/bbs-3.13-bioc/R/library --no-vignettes --timings soGGi_1.24.1.tar.gz StartedAt: 2021-10-14 11:41:42 -0400 (Thu, 14 Oct 2021) EndedAt: 2021-10-14 11:45:49 -0400 (Thu, 14 Oct 2021) EllapsedTime: 246.9 seconds RetCode: 0 Status: OK CheckDir: soGGi.Rcheck Warnings: 0