Package: soGGi Version: 1.24.1 Command: /home/biocbuild/bbs-3.13-bioc/R/bin/R CMD INSTALL soGGi StartedAt: 2021-10-14 06:28:30 -0400 (Thu, 14 Oct 2021) EndedAt: 2021-10-14 06:29:07 -0400 (Thu, 14 Oct 2021) EllapsedTime: 36.9 seconds RetCode: 0 Status: OK