Package: sparseDOSSA Version: 1.16.0 Command: rm -rf sparseDOSSA.buildbin-libdir && mkdir sparseDOSSA.buildbin-libdir && /Users/biocbuild/BBS/utils/build-universal.sh sparseDOSSA_1.16.0.tar.gz /Library/Frameworks/R.framework/Versions/Current/Resources/bin/R sparseDOSSA.buildbin-libdir StartedAt: 2021-10-15 04:04:24 -0400 (Fri, 15 Oct 2021) EndedAt: 2021-10-15 04:05:34 -0400 (Fri, 15 Oct 2021) EllapsedTime: 70.2 seconds RetCode: 0 Status: OK PackageFile: sparseDOSSA_1.16.0.tgz PackageFileSize: 648.5 KiB