Package: sparseDOSSA Version: 1.16.0 Command: rm -rf sparseDOSSA.buildbin-libdir && mkdir sparseDOSSA.buildbin-libdir && C:\Users\biocbuild\bbs-3.13-bioc\R\bin\R.exe CMD INSTALL --merge-multiarch --build --library=sparseDOSSA.buildbin-libdir sparseDOSSA_1.16.0.tar.gz StartedAt: 2021-10-15 11:55:19 -0400 (Fri, 15 Oct 2021) EndedAt: 2021-10-15 11:56:56 -0400 (Fri, 15 Oct 2021) EllapsedTime: 97.2 seconds RetCode: 0 Status: OK PackageFile: sparseDOSSA_1.16.0.zip PackageFileSize: 652.6 KiB