Package: spatialHeatmap Version: 1.2.0 Command: rm -rf spatialHeatmap.buildbin-libdir && mkdir spatialHeatmap.buildbin-libdir && /Users/biocbuild/BBS/utils/build-universal.sh spatialHeatmap_1.2.0.tar.gz /Library/Frameworks/R.framework/Versions/Current/Resources/bin/R spatialHeatmap.buildbin-libdir StartedAt: 2021-10-15 04:05:01 -0400 (Fri, 15 Oct 2021) EndedAt: 2021-10-15 04:06:12 -0400 (Fri, 15 Oct 2021) EllapsedTime: 70.1 seconds RetCode: 0 Status: OK PackageFile: spatialHeatmap_1.2.0.tgz PackageFileSize: 9.264 MiB