Package: spatialHeatmap Version: 1.2.0 Command: /Library/Frameworks/R.framework/Versions/Current/Resources/bin/R CMD build --keep-empty-dirs --no-resave-data spatialHeatmap StartedAt: 2021-10-14 15:06:44 -0400 (Thu, 14 Oct 2021) EndedAt: 2021-10-14 15:09:33 -0400 (Thu, 14 Oct 2021) EllapsedTime: 168.3 seconds RetCode: 0 Status: OK PackageFile: spatialHeatmap_1.2.0.tar.gz PackageFileSize: 9.603 MiB