Package: spatialHeatmap Version: 1.2.0 Command: /Library/Frameworks/R.framework/Versions/Current/Resources/bin/R CMD check --install=check:spatialHeatmap.install-out.txt --library=/Library/Frameworks/R.framework/Versions/Current/Resources/library --no-vignettes --timings spatialHeatmap_1.2.0.tar.gz StartedAt: 2021-10-15 00:17:29 -0400 (Fri, 15 Oct 2021) EndedAt: 2021-10-15 00:23:59 -0400 (Fri, 15 Oct 2021) EllapsedTime: 390.9 seconds RetCode: 0 Status: OK CheckDir: spatialHeatmap.Rcheck Warnings: 0