Package: spatialHeatmap Version: 1.2.0 Command: /home/biocbuild/bbs-3.13-bioc/R/bin/R CMD check --install=check:spatialHeatmap.install-out.txt --library=/home/biocbuild/bbs-3.13-bioc/R/library --no-vignettes --timings spatialHeatmap_1.2.0.tar.gz StartedAt: 2021-10-14 11:42:59 -0400 (Thu, 14 Oct 2021) EndedAt: 2021-10-14 11:47:29 -0400 (Thu, 14 Oct 2021) EllapsedTime: 269.1 seconds RetCode: 0 Status: OK CheckDir: spatialHeatmap.Rcheck Warnings: 0