Package: spicyR Version: 1.4.0 Command: /Library/Frameworks/R.framework/Versions/Current/Resources/bin/R CMD INSTALL spicyR StartedAt: 2021-10-14 09:34:22 -0400 (Thu, 14 Oct 2021) EndedAt: 2021-10-14 09:35:12 -0400 (Thu, 14 Oct 2021) EllapsedTime: 49.8 seconds RetCode: 0 Status: OK