Package: spikeLI Version: 2.52.0 Command: rm -rf spikeLI.buildbin-libdir && mkdir spikeLI.buildbin-libdir && C:\Users\biocbuild\bbs-3.13-bioc\R\bin\R.exe CMD INSTALL --merge-multiarch --build --library=spikeLI.buildbin-libdir spikeLI_2.52.0.tar.gz StartedAt: 2021-10-15 11:57:38 -0400 (Fri, 15 Oct 2021) EndedAt: 2021-10-15 11:59:09 -0400 (Fri, 15 Oct 2021) EllapsedTime: 91.0 seconds RetCode: 0 Status: OK PackageFile: spikeLI_2.52.0.zip PackageFileSize: 362.8 KiB