Package: spikeLI Version: 2.52.0 Command: chmod a+r spikeLI -R && C:\Users\biocbuild\bbs-3.13-bioc\R\bin\R.exe CMD build --keep-empty-dirs --no-resave-data spikeLI StartedAt: 2021-10-14 18:30:55 -0400 (Thu, 14 Oct 2021) EndedAt: 2021-10-14 18:31:20 -0400 (Thu, 14 Oct 2021) EllapsedTime: 25.5 seconds RetCode: 0 Status: OK PackageFile: spikeLI_2.52.0.tar.gz PackageFileSize: 318.9 KiB