Package: splatter Version: 1.16.1 Command: /home/biocbuild/bbs-3.13-bioc/R/bin/R CMD INSTALL splatter StartedAt: 2021-10-14 06:16:35 -0400 (Thu, 14 Oct 2021) EndedAt: 2021-10-14 06:17:01 -0400 (Thu, 14 Oct 2021) EllapsedTime: 25.7 seconds RetCode: 0 Status: OK