git_url: https://git.bioconductor.org/packages/splineTimeR git_branch: RELEASE_3_13 git_last_commit: 8c36a77 git_last_commit_date: 2021-05-19 12:17:11 -0400 (Wed, 19 May 2021) Package: splineTimeR Version: 1.20.0 Maintainer: Herbert Braselmann , Martin Selmansberger MaintainerEmail: martin.selmansberger at helmholtz-muenchen.de