Package: splineTimeR Version: 1.20.0 Command: rm -rf splineTimeR.buildbin-libdir && mkdir splineTimeR.buildbin-libdir && C:\Users\biocbuild\bbs-3.13-bioc\R\bin\R.exe CMD INSTALL --merge-multiarch --build --library=splineTimeR.buildbin-libdir splineTimeR_1.20.0.tar.gz StartedAt: 2021-10-15 11:58:20 -0400 (Fri, 15 Oct 2021) EndedAt: 2021-10-15 11:59:50 -0400 (Fri, 15 Oct 2021) EllapsedTime: 90.6 seconds RetCode: 0 Status: OK PackageFile: splineTimeR_1.20.0.zip PackageFileSize: 1.184 MiB