Package: splineTimeR Version: 1.20.0 Command: C:\cygwin\bin\curl.exe -O http://155.52.207.165/BBS/3.13/bioc/src/contrib/splineTimeR_1.20.0.tar.gz && rm -rf splineTimeR.buildbin-libdir && mkdir splineTimeR.buildbin-libdir && C:\Users\biocbuild\bbs-3.13-bioc\R\bin\R.exe CMD INSTALL --merge-multiarch --build --library=splineTimeR.buildbin-libdir splineTimeR_1.20.0.tar.gz && C:\Users\biocbuild\bbs-3.13-bioc\R\bin\R.exe CMD INSTALL splineTimeR_1.20.0.zip && rm splineTimeR_1.20.0.tar.gz splineTimeR_1.20.0.zip StartedAt: 2021-10-14 09:16:12 -0400 (Thu, 14 Oct 2021) EndedAt: 2021-10-14 09:17:05 -0400 (Thu, 14 Oct 2021) EllapsedTime: 53.2 seconds RetCode: 0 Status: OK