Package: srnadiff Version: 1.12.2 Command: /Library/Frameworks/R.framework/Versions/Current/Resources/bin/R CMD INSTALL srnadiff StartedAt: 2021-10-14 10:12:28 -0400 (Thu, 14 Oct 2021) EndedAt: 2021-10-14 10:14:17 -0400 (Thu, 14 Oct 2021) EllapsedTime: 108.9 seconds RetCode: 0 Status: OK