Package: srnadiff Version: 1.12.2 Command: /home/biocbuild/bbs-3.13-bioc/R/bin/R CMD INSTALL srnadiff StartedAt: 2021-10-14 06:31:40 -0400 (Thu, 14 Oct 2021) EndedAt: 2021-10-14 06:32:59 -0400 (Thu, 14 Oct 2021) EllapsedTime: 78.5 seconds RetCode: 0 Status: OK