Package: srnadiff Version: 1.12.2 Command: rm -rf srnadiff.buildbin-libdir && mkdir srnadiff.buildbin-libdir && C:\Users\biocbuild\bbs-3.13-bioc\R\bin\R.exe CMD INSTALL --merge-multiarch --build --library=srnadiff.buildbin-libdir srnadiff_1.12.2.tar.gz StartedAt: 2021-10-15 11:59:42 -0400 (Fri, 15 Oct 2021) EndedAt: 2021-10-15 12:02:36 -0400 (Fri, 15 Oct 2021) EllapsedTime: 174.0 seconds RetCode: 0 Status: OK PackageFile: srnadiff_1.12.2.zip PackageFileSize: 3.496 MiB