Package: srnadiff Version: 1.12.2 Command: chmod a+r srnadiff -R && C:\Users\biocbuild\bbs-3.13-bioc\R\bin\R.exe CMD build --keep-empty-dirs --no-resave-data srnadiff StartedAt: 2021-10-14 18:33:36 -0400 (Thu, 14 Oct 2021) EndedAt: 2021-10-14 18:40:22 -0400 (Thu, 14 Oct 2021) EllapsedTime: 405.3 seconds RetCode: 0 Status: OK PackageFile: srnadiff_1.12.2.tar.gz PackageFileSize: 2.26 MiB