Package: srnadiff Version: 1.12.2 Command: C:\Users\biocbuild\bbs-3.13-bioc\R\bin\R.exe CMD check --force-multiarch --install=check:srnadiff.install-out.txt --library=C:\Users\biocbuild\bbs-3.13-bioc\R\library --no-vignettes --timings srnadiff_1.12.2.tar.gz StartedAt: 2021-10-15 06:11:20 -0400 (Fri, 15 Oct 2021) EndedAt: 2021-10-15 06:51:20 -0400 (Fri, 15 Oct 2021) EllapsedTime: 2400.1 seconds RetCode: None Status: TIMEOUT CheckDir: srnadiff.Rcheck Warnings: NA