git_url: https://git.bioconductor.org/packages/ssPATHS git_branch: RELEASE_3_13 git_last_commit: 32ea581 git_last_commit_date: 2021-05-19 12:47:01 -0400 (Wed, 19 May 2021) Package: ssPATHS Version: 1.6.0 Maintainer: Natalie R. Davidson MaintainerEmail: natalie.davidson at inf.ethz.ch