Package: ssPATHS Version: 1.6.0 Command: /Library/Frameworks/R.framework/Versions/Current/Resources/bin/R CMD build --keep-empty-dirs --no-resave-data ssPATHS StartedAt: 2021-10-14 15:10:53 -0400 (Thu, 14 Oct 2021) EndedAt: 2021-10-14 15:11:32 -0400 (Thu, 14 Oct 2021) EllapsedTime: 39.3 seconds RetCode: 0 Status: OK PackageFile: ssPATHS_1.6.0.tar.gz PackageFileSize: 3.62 MiB