Package: ssPATHS Version: 1.6.0 Command: /Library/Frameworks/R.framework/Versions/Current/Resources/bin/R CMD check --install=check:ssPATHS.install-out.txt --library=/Library/Frameworks/R.framework/Versions/Current/Resources/library --no-vignettes --timings ssPATHS_1.6.0.tar.gz StartedAt: 2021-10-15 00:26:10 -0400 (Fri, 15 Oct 2021) EndedAt: 2021-10-15 00:29:46 -0400 (Fri, 15 Oct 2021) EllapsedTime: 216.3 seconds RetCode: 0 Status: OK CheckDir: ssPATHS.Rcheck Warnings: 0