git_url: https://git.bioconductor.org/packages/ssize git_branch: RELEASE_3_13 git_last_commit: 5d7c39b git_last_commit_date: 2021-05-19 11:35:47 -0400 (Wed, 19 May 2021) Package: ssize Version: 1.66.0 Maintainer: Gregory R. Warnes MaintainerEmail: greg at random-technologies-llc.com