Package: ssize Version: 1.66.0 Command: rm -rf ssize.buildbin-libdir && mkdir ssize.buildbin-libdir && /Users/biocbuild/BBS/utils/build-universal.sh ssize_1.66.0.tar.gz /Library/Frameworks/R.framework/Versions/Current/Resources/bin/R ssize.buildbin-libdir StartedAt: 2021-10-15 04:07:32 -0400 (Fri, 15 Oct 2021) EndedAt: 2021-10-15 04:08:36 -0400 (Fri, 15 Oct 2021) EllapsedTime: 63.5 seconds RetCode: 0 Status: OK PackageFile: ssize_1.66.0.tgz PackageFileSize: 391.9 KiB