Package: ssize Version: 1.66.0 Command: /Library/Frameworks/R.framework/Versions/Current/Resources/bin/R CMD check --install=check:ssize.install-out.txt --library=/Library/Frameworks/R.framework/Versions/Current/Resources/library --no-vignettes --timings ssize_1.66.0.tar.gz StartedAt: 2021-10-15 00:25:54 -0400 (Fri, 15 Oct 2021) EndedAt: 2021-10-15 00:26:32 -0400 (Fri, 15 Oct 2021) EllapsedTime: 38.2 seconds RetCode: 0 Status: OK CheckDir: ssize.Rcheck Warnings: 0