Package: ssize Version: 1.66.0 Command: /Library/Frameworks/R.framework/Versions/Current/Resources/bin/R CMD INSTALL ssize StartedAt: 2021-10-14 08:14:31 -0400 (Thu, 14 Oct 2021) EndedAt: 2021-10-14 08:15:31 -0400 (Thu, 14 Oct 2021) EllapsedTime: 59.7 seconds RetCode: 0 Status: OK